{"text_format":"1","workbook":"xlsx","n_sheets":3,"sheets":["入力","特記","特記 (Backup)"],"not_rendered":{"charts":0,"images":10,"macros":1,"external_links":0,"defined_names":3,"comments":0,"pivot_tables":0},"unopened":[],"bounds":{"document_bytes":16777216,"sheet_cells":100000,"rows_first":2000,"rows_last":500,"rows_between":2000,"halvings":0,"cell_chars":16384,"cell_head_chars":4096},"cells_cut":0,"cells_raw":0,"read":"whole","date_system":"1900"}

{"sheet":"入力","index":0,"n_rows":23,"n_cols":13,"rows_kept":23,"cut":false,"hidden":false,"merged":[[0,2,0,9],[22,11,22,13],[4,0,4,9],[2,11,2,12],[9,12,12,13],[8,11,8,13],[9,11,12,11],[18,11,18,12],[0,14,1,15],[0,11,0,12],[13,11,16,11],[13,12,16,13],[21,11,21,13]]}
["市町村コード",21205,"認定調査票（特記事項）作成",null,null,null,null,null,null,null,null,"Ver.1.4.4 2016.11.02"]
["被保険者番号",500012345]
["調査日","2016-02-17",null,null,null,null,null,null,null,null,null,"特殊入力"]
[null,null,null,null,null,null,null,null,null,"※別ファイル保存先は、このファイルと同一フォルダ。\"認定調査票（特記事項）.xlsx\"",null,"コピー","Ctrl + C"]
["特記内容",null,null,null,null,null,null,null,null,null,null,"切り取り","Ctrl + X"]
[null,null,null,null,null,null,null,null,null,null,null,"貼り付け","Ctrl + V"]
[]
[]
[null,null,null,null,null,null,null,null,null,null,null,"禁則処理"]
[null,null,null,null,null,null,null,null,null,null,null,"行頭禁則","!%),.:;?]}¢°’”‰′″℃、。々〉》」』】〕゛゜ゝゞ・ヽヾ！％），．：；？］｝｡｣､･ﾞﾟ￠"]
[]
[]
[]
[null,null,null,null,null,null,null,null,null,null,null,"行末禁則","$([\\{£¥‘“〈《「『【〔＄（［｛｢￡￥"]
[]
[]
[]
[]
[null,null,null,null,null,null,null,null,null,null,null,"文字サイズ"]
[null,null,null,null,null,null,null,null,null,null,null,"基準",11]
[null,null,null,null,null,null,null,null,null,null,null,"現在",11]
[null,null,null,null,null,null,null,null,null,null,null,"入力する文字サイズを変更します。"]
[null,null,null,null,null,null,null,null,null,null,null,"右クリックメニューで文字の大きさを変更できます。"]

{"sheet":"特記","index":1,"n_rows":8,"n_cols":48,"rows_kept":8,"cut":false,"hidden":false,"merged":[[32,2,32,44],[25,2,25,44],[26,2,26,44],[27,2,27,44],[31,2,31,44],[29,2,29,44],[30,2,30,44],[10,5,10,44],[28,2,28,44],[19,2,19,44],[20,2,20,44],[24,2,24,44],[21,2,21,44],[22,2,22,44],[23,2,23,44],[33,2,33,44],[38,2,38,44],[40,2,40,44],[47,2,47,44],[41,2,41,44],[42,2,42,44],[43,2,43,44],[44,2,44,44],[45,2,45,44],[46,2,46,44],[39,2,39,44],[34,2,34,44],[35,2,35,44],[36,2,36,44],[37,2,37,44]]}
[]
[]
[]
[]
[null,null,null,null,null,null,{"$f":"LEFT(RIGHT(\"00000\" & 入力!B1,5),1)","v":"2"},null,{"$f":"MID(RIGHT(\"00000\" & 入力!B1,5),2,1)","v":"1"},null,{"$f":"MID(RIGHT(\"00000\" & 入力!B1,5),3,1)","v":"2"},null,{"$f":"MID(RIGHT(\"00000\" & 入力!B1,5),4,1)","v":"0"},null,{"$f":"RIGHT(入力!B1,1)","v":"5"},null,null,null,null,null,null,null,null,null,{"$f":"MID(RIGHT(\"0000000000\" & AV5,10),1,1)","v":"0"},null,{"$f":"MID(RIGHT(\"0000000000\" & AV5,10),2,1)","v":"5"},null,{"$f":"MID(RIGHT(\"0000000000\" & AV5,10),3,1)","v":"0"},null,{"$f":"MID(RIGHT(\"0000000000\" & AV5,10),4,1)","v":"0"},null,{"$f":"MID(RIGHT(\"0000000000\" & AV5,10),5,1)","v":"0"},null,{"$f":"MID(RIGHT(\"0000000000\" & AV5,10),6,1)","v":"9"},null,{"$f":"MID(RIGHT(\"0000000000\" & AV5,10),7,1)","v":"9"},null,{"$f":"MID(RIGHT(\"0000000000\" & AV5,10),8,1)","v":"9"},null,{"$f":"MID(RIGHT(\"0000000000\" & AV5,10),9,1)","v":"9"},null,{"$f":"MID(RIGHT(\"0000000000\" & AV5,10),10,1)","v":"9"},null,null,null,null,500099999]
[]
[]
[null,null,null,null,null,null,null,null,null,null,null,null,null,null,null,null,null,null,null,null,null,null,null,null,{"$f":"MID(YEAR(AV8),1,1)","v":"2"},null,{"$f":"MID(YEAR(AV8),2,1)","v":"0"},null,{"$f":"MID(YEAR(AV8),3,1)","v":"1"},null,{"$f":"MID(YEAR(AV8),4,1)","v":"6"},null,"年",null,{"$f":"MID(MONTH(AV8)+100,2,1)","v":"0"},null,{"$f":"MID(MONTH(AV8)+100,3,1)","v":"2"},null,"月",null,{"$f":"MID(DAY(AV8)+100,2,1)","v":"1"},null,{"$f":"MID(DAY(AV8)+100,3,1)","v":"7"},null,"日",null,null,"2016-02-17"]

{"sheet":"特記 (Backup)","index":2,"n_rows":8,"n_cols":48,"rows_kept":8,"cut":false,"hidden":true,"merged":[[23,2,23,44],[10,5,10,44],[19,2,19,44],[20,2,20,44],[21,2,21,44],[22,2,22,44],[35,2,35,44],[24,2,24,44],[25,2,25,44],[26,2,26,44],[27,2,27,44],[28,2,28,44],[29,2,29,44],[30,2,30,44],[31,2,31,44],[32,2,32,44],[33,2,33,44],[34,2,34,44],[47,2,47,44],[36,2,36,44],[37,2,37,44],[38,2,38,44],[39,2,39,44],[40,2,40,44],[41,2,41,44],[42,2,42,44],[43,2,43,44],[44,2,44,44],[45,2,45,44],[46,2,46,44]]}
[]
[]
[]
[]
[null,null,null,null,null,null,null,null,null,null,null,null,null,null,null,null,null,null,null,null,null,null,null,null,{"$f":"MID(RIGHT(\"0000000000\" & AV5,10),1,1)","v":"0"},null,{"$f":"MID(RIGHT(\"0000000000\" & AV5,10),2,1)","v":"5"},null,{"$f":"MID(RIGHT(\"0000000000\" & AV5,10),3,1)","v":"0"},null,{"$f":"MID(RIGHT(\"0000000000\" & AV5,10),4,1)","v":"0"},null,{"$f":"MID(RIGHT(\"0000000000\" & AV5,10),5,1)","v":"0"},null,{"$f":"MID(RIGHT(\"0000000000\" & AV5,10),6,1)","v":"9"},null,{"$f":"MID(RIGHT(\"0000000000\" & AV5,10),7,1)","v":"9"},null,{"$f":"MID(RIGHT(\"0000000000\" & AV5,10),8,1)","v":"9"},null,{"$f":"MID(RIGHT(\"0000000000\" & AV5,10),9,1)","v":"9"},null,{"$f":"MID(RIGHT(\"0000000000\" & AV5,10),10,1)","v":"9"},null,null,null,null,500099999]
[]
[]
[null,null,null,null,null,null,null,null,null,null,null,null,null,null,null,null,null,null,null,null,null,null,null,null,{"$f":"MID(YEAR(AV8),1,1)","v":"2"},null,{"$f":"MID(YEAR(AV8),2,1)","v":"0"},null,{"$f":"MID(YEAR(AV8),3,1)","v":"1"},null,{"$f":"MID(YEAR(AV8),4,1)","v":"6"},null,"年",null,{"$f":"MID(MONTH(AV8)+100,2,1)","v":"0"},null,{"$f":"MID(MONTH(AV8)+100,3,1)","v":"2"},null,"月",null,{"$f":"MID(DAY(AV8)+100,2,1)","v":"1"},null,{"$f":"MID(DAY(AV8)+100,3,1)","v":"7"},null,"日",null,null,"2016-02-17"]