{"text_format":"1","workbook":"xlsx","n_sheets":3,"sheets":["作成","特記","特記 (Backup)"],"not_rendered":{"charts":0,"images":11,"macros":1,"external_links":0,"defined_names":3,"comments":1,"pivot_tables":0},"unopened":[],"bounds":{"document_bytes":16777216,"sheet_cells":100000,"rows_first":2000,"rows_last":500,"rows_between":2000,"halvings":0,"cell_chars":16384,"cell_head_chars":4096},"cells_cut":0,"cells_raw":0,"read":"whole","date_system":"1900"}

{"sheet":"作成","index":0,"n_rows":26,"n_cols":6,"rows_kept":26,"cut":false,"hidden":false,"merged":[[0,4,0,7],[14,0,17,0],[18,0,21,0],[13,0,13,2],[14,1,17,2],[18,1,21,2],[1,5,1,16],[6,1,6,2],[3,1,3,2],[2,1,2,2],[1,0,1,2],[8,0,8,2],[9,5,9,16]]}
["Ver.1.5.2 2019.01.24",null,null,null,"認定調査票（特記事項）作成"]
["被保険者情報",null,null,null,null,"特記すべき事項"]
["市町村コード",21205]
["被保険者番号",500012345]
["申請回数",1,"回目"]
["調査回目",1,"回目"]
["調査日","2019-01-11"]
[]
["文字サイズ"]
["基準",11,"ポイント",null,null,"調査項目に関する事項"]
["特記事項現在",11,"ポイント"]
["項目事項現在",11,"ポイント"]
[]
["禁則処理"]
["行頭禁則","!%),.:;?]}¢°’”‰′″℃、。々〉》」』】〕゛゜ゝゞ・ヽヾ！％），．：；？］｝｡｣､･ﾞﾟ￠"]
[]
[]
[]
["行末禁則","$([\\{£¥‘“〈《「『【〔＄（［｛｢￡￥"]
[]
[]
[]
[]
[]
[]
[null,null,null,null,null,"※調査項目の項目番号は、行の初めに（かっこ）でくくって記入してください。"]

{"sheet":"特記","index":1,"n_rows":49,"n_cols":46,"rows_kept":49,"cut":false,"hidden":false,"merged":[[46,3,46,7],[46,8,46,46],[1,16,3,32],[7,7,7,9],[7,11,7,15],[7,0,7,3],[43,3,43,7],[43,8,43,46],[44,3,44,7],[44,8,44,46],[45,3,45,7],[45,8,45,46],[40,3,40,7],[40,8,40,46],[41,3,41,7],[41,8,41,46],[42,3,42,7],[42,8,42,46],[37,3,37,7],[37,8,37,46],[38,3,38,7],[38,8,38,46],[39,3,39,7],[39,8,39,46],[34,3,34,7],[34,8,34,46],[35,3,35,7],[35,8,35,46],[36,3,36,7],[36,8,36,46],[31,3,31,7],[31,8,31,46],[32,3,32,7],[32,8,32,46],[33,3,33,7],[33,8,33,46],[28,3,28,7],[28,8,28,46],[29,3,29,7],[29,8,29,46],[30,3,30,7],[30,8,30,46],[25,3,25,7],[25,8,25,46],[26,3,26,7],[26,8,26,46],[27,3,27,7],[27,8,27,46],[22,3,22,7],[22,8,22,46],[23,3,23,7],[23,8,23,46],[24,3,24,7],[24,8,24,46],[13,3,19,46],[5,15,5,16],[7,16,7,18],[3,44,3,48],[5,18,5,20],[7,20,7,21],[4,45,4,49]]}
[]
[null,null,null,null,null,null,null,null,null,null,null,null,null,null,null,null,"認定調査票（特記事項）"]
[]
[null,null,null,null,null,null,null,null,null,null,null,null,null,null,null,null,null,null,null,null,null,null,null,null,null,null,null,null,null,null,null,null,null,null,null,null,null,null,null,null,null,null,null,null,"0231"]
[null,null,null,null,null,null,null,null,null,null,null,null,null,null,null,null,null,null,null,null,null,null,null,null,null,null,null,null,null,null,null,null,null,null,null,null,null,null,null,null,null,null,null,null,null,"No.1"]
[null,null,"市町村コード",null,null,null,null,null,null,{"$f":"LEFT(RIGHT(\"0000\" & 作成!B3,5),1)","v":"2"},null,{"$f":"MID(RIGHT(\"0000\" & 作成!B3,5),2,1)","v":"1"},null,{"$f":"MID(RIGHT(\"0000\" & 作成!B3,5),3,1)","v":"2"},null,{"$f":"MID(RIGHT(\"0000\" & 作成!B3,5),4,1)","v":"0"},null,null,{"$f":"MID(RIGHT(\"0000\" & 作成!B3,5),5,1)","v":"5"},null,null,null,null,null,"対象者番号",null,{"$f":"LEFT(RIGHT(\"0000\" & 作成!B4,10),1)","v":"0"},null,{"$f":"MID(RIGHT(\"0000\" & 作成!B4,10),2,1)","v":"5"},null,{"$f":"MID(RIGHT(\"0000\" & 作成!B4,10),3,1)","v":"0"},null,{"$f":"MID(RIGHT(\"0000\" & 作成!B4,10),4,1)","v":"0"},null,{"$f":"MID(RIGHT(\"0000\" & 作成!B4,10),5,1)","v":"0"},null,{"$f":"MID(RIGHT(\"0000\" & 作成!B4,10),6,1)","v":"1"},null,{"$f":"MID(RIGHT(\"0000\" & 作成!B4,10),7,1)","v":"2"},null,{"$f":"MID(RIGHT(\"0000\" & 作成!B4,10),8,1)","v":"3"},null,{"$f":"MID(RIGHT(\"0000\" & 作成!B4,10),9,1)","v":"4"},null,{"$f":"MID(RIGHT(\"0000\" & 作成!B4,10),10,1)","v":"5"}]
[]
["申請回数",null,null,null,{"$f":"LEFT(RIGHT(\"0\" & 作成!B5,2),1)","v":"0"},null,{"$f":"RIGHT(作成!B5,1)","v":"1"},"回目",null,null,null,"調査回目",null,null,null,null,{"$f":"LEFT(RIGHT(\"0\" & 作成!B6,2),1)","v":"0"},null,null,null,{"$f":"RIGHT(作成!B6,1)","v":"1"},null,"回目",null,"調査日",null,{"$f":"LEFT(YEAR(作成!B7),1)","v":"2"},null,{"$f":"MID(YEAR(作成!B7),2,1)","v":"0"},null,{"$f":"MID(YEAR(作成!B7),3,1)","v":"1"},null,{"$f":"MID(YEAR(作成!B7),4,1)","v":"9"},null,"年",null,{"$f":"LEFT(RIGHT(\"0\" & MONTH(作成!B7),2),1)","v":"0"},null,{"$f":"RIGHT(MONTH(作成!B7),1)","v":"1"},null,"月",null,{"$f":"LEFT(RIGHT(\"0\" & DAY(作成!B7),2),1)","v":"1"},null,{"$f":"RIGHT(DAY(作成!B7),1)","v":"1"},"日"]
[]
[]
[null,null,null,"【概況調査票】 特記すべき事項"]
[]
[]
[]
[]
[]
[]
[]
[]
[]
[]
[]
[]
[]
[]
[]
[]
[]
[]
[]
[]
[]
[]
[]
[]
[]
[]
[]
[]
[]
[]
[]
[]
[]
[]
[]
[]
[]
[null,null,null,null,null,null,null,null,null,null,null,null,null,null,null,null,null,null,null,null,null,null,null,null,"※本用紙に収まらない場合は、適宜用紙を追加して下さい"]

{"sheet":"特記 (Backup)","index":2,"n_rows":8,"n_cols":48,"rows_kept":8,"cut":false,"hidden":true,"merged":[[47,2,47,44],[36,2,36,44],[37,2,37,44],[38,2,38,44],[39,2,39,44],[40,2,40,44],[41,2,41,44],[42,2,42,44],[43,2,43,44],[44,2,44,44],[45,2,45,44],[46,2,46,44],[35,2,35,44],[24,2,24,44],[25,2,25,44],[26,2,26,44],[27,2,27,44],[28,2,28,44],[29,2,29,44],[30,2,30,44],[31,2,31,44],[32,2,32,44],[33,2,33,44],[34,2,34,44],[23,2,23,44],[10,5,10,44],[19,2,19,44],[20,2,20,44],[21,2,21,44],[22,2,22,44]]}
[]
[]
[]
[]
[null,null,null,null,null,null,null,null,null,null,null,null,null,null,null,null,null,null,null,null,null,null,null,null,{"$f":"MID(RIGHT(\"0000000000\" & AV5,10),1,1)","v":"0"},null,{"$f":"MID(RIGHT(\"0000000000\" & AV5,10),2,1)","v":"5"},null,{"$f":"MID(RIGHT(\"0000000000\" & AV5,10),3,1)","v":"0"},null,{"$f":"MID(RIGHT(\"0000000000\" & AV5,10),4,1)","v":"0"},null,{"$f":"MID(RIGHT(\"0000000000\" & AV5,10),5,1)","v":"0"},null,{"$f":"MID(RIGHT(\"0000000000\" & AV5,10),6,1)","v":"9"},null,{"$f":"MID(RIGHT(\"0000000000\" & AV5,10),7,1)","v":"9"},null,{"$f":"MID(RIGHT(\"0000000000\" & AV5,10),8,1)","v":"9"},null,{"$f":"MID(RIGHT(\"0000000000\" & AV5,10),9,1)","v":"9"},null,{"$f":"MID(RIGHT(\"0000000000\" & AV5,10),10,1)","v":"9"},null,null,null,null,500099999]
[]
[]
[null,null,null,null,null,null,null,null,null,null,null,null,null,null,null,null,null,null,null,null,null,null,null,null,{"$f":"MID(YEAR(AV8),1,1)","v":"2"},null,{"$f":"MID(YEAR(AV8),2,1)","v":"0"},null,{"$f":"MID(YEAR(AV8),3,1)","v":"1"},null,{"$f":"MID(YEAR(AV8),4,1)","v":"6"},null,"年",null,{"$f":"MID(MONTH(AV8)+100,2,1)","v":"0"},null,{"$f":"MID(MONTH(AV8)+100,3,1)","v":"2"},null,"月",null,{"$f":"MID(DAY(AV8)+100,2,1)","v":"1"},null,{"$f":"MID(DAY(AV8)+100,3,1)","v":"7"},null,"日",null,null,"2016-02-17"]